BEGIN:VCALENDAR
VERSION:2.0
PRODID:Events Booking
BEGIN:VEVENT
UID:69e76182c33fd
SUMMARY:FEZ: FEZukunft Sommeranlass 2018
DESCRIPTION:Im Rahmen dieser neuen Fachgruppe präsentiert das Forum Energi
 e Zürich bereits das erste Happening\, das aus der Reihe tanzt: Am Donner
 stag\, 30. August 2018\, treffen wir und alle Interessierten uns abends zu
 m Grillplausch.
LOCATION:Zürich\, Schweiz
DTSTART:20180830T153000Z
DTEND:20180830T210000Z
DTSTAMP:20260421T133738Z
ORGANIZER;CN=IFMA Schweiz :MAILTO:admin@ifma.ch
GEO:47.376887;8.541694
X-APPLE-STRUCTURED-LOCATION;VALUE=URI;X-ADDRESS=Zürich\, Schweiz;X-APPLE-R
 ADIUS=72;X-TITLE=Zürich:47.376887;8.541694
END:VEVENT
END:VCALENDAR