BEGIN:VCALENDAR
VERSION:2.0
PRODID:Events Booking
BEGIN:VEVENT
UID:69eb23bca0fca
SUMMARY:Schweizerische Baurechtstagung\, Durchführung auf Französisch
DESCRIPTION:Die Schweizerische Baurechtstagung ist bewährt und relevant\, 
 und dies seit 1975\, als sie zum ersten Mal durchgeführt wurde. Alle zwei
  Jahre kommen zahlreiche Fachleute aus Recht\, Wirtschaft\, Verwaltung und
  Baupraxis an die Universität Freiburg\, um sich mit brennenden Fragen de
 s privaten und des öffentlichen Baurechts auseinanderzusetzen.
LOCATION:Miséricorde\, Avenue de l'Europe 20\, 1700 Fribourg\, Schweiz
DTSTART:20230125T230000Z
DTEND:20230126T230000Z
DTSTAMP:20220513T075654Z
ORGANIZER;CN=IFMA Schweiz :MAILTO:admin@ifma.ch
GEO:46.806279;7.151929
X-APPLE-STRUCTURED-LOCATION;VALUE=URI;X-ADDRESS=Miséricorde\, Avenue de l'
 Europe 20\, 1700 Fribourg\, Schweiz;X-APPLE-RADIUS=72;X-TITLE=Freiburg\, U
 niversität:46.806279;7.151929
END:VEVENT
END:VCALENDAR