BEGIN:VCALENDAR
VERSION:2.0
PRODID:Events Booking
BEGIN:VEVENT
UID:69e73094b29a9
SUMMARY:Klimakonferenz
DESCRIPTION:Folgende Fragen werden diskutiert:
 
 Welche Auswirkungen hat
  der Klimawandel global und lokal auf die Gesellschaft und die Industrie?
 
 Welche gesellschaftlichen Veränderungen und welche Technologien tragen 
 zur Dekarbonisierung (\"Defossilisierung\") von Gesellschaft und Wirtschaf
 t bei? Welchen Handlungsspielraum haben Gemeinden und Regionen\, um die Kl
 imaneutralität zu fördern? (Vermeidungstrategien)
 Welche Möglichkeite
 n bestehen zum Schutz der Bevölkerung vor den Folgen des Klimawandels und
  wie werden dessen Risiken reduziert? (Anpassungstrategien)
 
LOCATION:Oberseestrasse 10\, 8640 Rapperswil-Jona\, Schweiz
DTSTART:20200916T103000Z
DTEND:20200916T163000Z
DTSTAMP:20260421T100852Z
ORGANIZER;CN=IFMA Schweiz :MAILTO:admin@ifma.ch
GEO:47.223361;8.817363
X-APPLE-STRUCTURED-LOCATION;VALUE=URI;X-ADDRESS=Oberseestrasse 10\, 8640 Ra
 pperswil-Jona\, Schweiz;X-APPLE-RADIUS=72;X-TITLE=Rapperswil\, OST Campus 
 Rapperswil-Jona\, Gebäude 4 :47.223361;8.817363
END:VEVENT
END:VCALENDAR