BEGIN:VCALENDAR
VERSION:2.0
PRODID:Events Booking
BEGIN:VEVENT
UID:69e7542c62aa5
SUMMARY:ETH Forum Wohnungsbau 2018
DESCRIPTION:Schwerpunkte sind der Wohnraum im Bestand –&nbsp\; wo&nbsp\; 
 die&nbsp\; Mehrzahl&nbsp\; älterer&nbsp\; Menschen&nbsp\; wohnt&nbsp\; 
 –&nbsp\; auf&nbsp\; Siedlungs-\,&nbsp\; Quartier-&nbsp\; oder&nbsp\; Sta
 dtebene&nbsp\; und&nbsp\; auch&nbsp\; die&nbsp\; vielfältigen&nbsp\; Bed
 ürfnisse&nbsp\; einer&nbsp\; älter&nbsp\; werdenden&nbsp\; Bewohnerschaf
 t an ihr ganz persönliches «Ageing in place».
LOCATION:ETH Zürich Hauptgebäude\, Rämistrasse 101\, 8092 Zürich\, Schw
 eiz
DTSTART:20180413T063000Z
DTEND:20180413T150500Z
DTSTAMP:20260421T124044Z
ORGANIZER;CN=IFMA Schweiz :MAILTO:admin@ifma.ch
GEO:47.376536;8.548093
X-APPLE-STRUCTURED-LOCATION;VALUE=URI;X-ADDRESS=ETH Zürich Hauptgebäude\,
  Rämistrasse 101\, 8092 Zürich\, Schweiz;X-APPLE-RADIUS=72;X-TITLE=Züri
 ch\, ETH Zürich Zentrum:47.376536;8.548093
END:VEVENT
END:VCALENDAR