BEGIN:VCALENDAR
VERSION:2.0
PRODID:Events Booking
BEGIN:VEVENT
UID:69e75616a5acc
SUMMARY:Energie der Zukunft - Umbau der Energie-Erzeugung bis 2030
DESCRIPTION:An der diesjährigen ETG-Fachtagung «Energien der Zukunft» wi
 rd der Zuwachs der erneuerbaren Energiequellen bis heute analysiert und an
 hand der neuen Fördersituation und Preisentwicklung in jedem Segment eine
  Prognose des Zubaus bis 2030 gegeben.
LOCATION:Ueberlandstrasse 2\, 8953 Dietikon\, Schweiz
DTSTART:20190514T063000Z
DTEND:20190514T140000Z
DTSTAMP:20260421T124854Z
ORGANIZER;CN=IFMA Schweiz :MAILTO:admin@ifma.ch
GEO:47.408211;8.409002
X-APPLE-STRUCTURED-LOCATION;VALUE=URI;X-ADDRESS=Ueberlandstrasse 2\, 8953 D
 ietikon\, Schweiz;X-APPLE-RADIUS=72;X-TITLE=Dietikon\, EKZ:47.408211;8.409
 002
END:VEVENT
END:VCALENDAR