BEGIN:VCALENDAR
VERSION:2.0
PRODID:Events Booking
BEGIN:VEVENT
UID:69e4dd08f0d9b
SUMMARY:Der Nutzerkongress 2018
DESCRIPTION:Es gibt jede Menge offene Fragen zwischen Auftraggeber und Dien
 stleister. Im Nutzerkongress 2018 erfahren Sie aus erster Hand\, worauf Si
 e sich einstellen müssen.
LOCATION:Speditionstraße 19\, 40221 Düsseldorf\, Deutschland
DTSTART:20180424T073000Z
DTEND:20180425T133000Z
DTSTAMP:20260419T154752Z
ORGANIZER;CN=IFMA Schweiz :MAILTO:admin@ifma.ch
GEO:51.216544;6.752721
X-APPLE-STRUCTURED-LOCATION;VALUE=URI;X-ADDRESS=Speditionstraße 19\, 40221
  Düsseldorf\, Deutschland;X-APPLE-RADIUS=72;X-TITLE=Düsseldorf\, Hyatt R
 egency:51.216544;6.752721
END:VEVENT
END:VCALENDAR