BEGIN:VCALENDAR
VERSION:2.0
PRODID:Events Booking
BEGIN:VEVENT
UID:69e88ec1c996d
SUMMARY:Bau- und Architekturveranstaltung: Building Green 
DESCRIPTION:
 Am 6. und 7. Juni 2023 findet die skandinavische Bau- und Ar
 chitekturveranstaltung Building Green in dem Altona Cruise Center in Hambu
 rg statt und Sie können sich darauf freuen\, wenn wir die urbane Transfor
 mation – Städte zum Wohle der Menschen und des Planeten in den Mittelpu
 nkt rücken.
 Sie können unter anderem in drei spannenden Podiumsdiskuss
 ionen jeweils gehostet von der HafenCity Hamburg GmbH\, DGNB e.V. und der 
 Fachagentur Nachwachsende Rohstoffe e.V. teilnehmen
LOCATION:Van-der-Smissen-Straße 5\, 22767 Hamburg\, Deutschland
DTSTART:20230606T071500Z
DTEND:20230607T140000Z
DTSTAMP:20230313T101459Z
ORGANIZER;CN=IFMA Schweiz :MAILTO:admin@ifma.ch
GEO:53.543617;9.93726
X-APPLE-STRUCTURED-LOCATION;VALUE=URI;X-ADDRESS=Van-der-Smissen-Straße 5\,
  22767 Hamburg\, Deutschland;X-APPLE-RADIUS=72;X-TITLE=Hamburg\, Cruise Ce
 nter Altona:53.543617;9.93726
END:VEVENT
END:VCALENDAR