BEGIN:VCALENDAR
VERSION:2.0
PRODID:Events Booking
BEGIN:VEVENT
UID:69e8343c8d168
SUMMARY:Webinar IFMA Meets: Von smarten Häusern zu lernenden Infrastruktur
 en
DESCRIPTION:
 Programm
 
 Im letzten Jahr hat ChatGPT die praktischen M
 öglichkeiten aktueller Systeme für künstliche Intelligenz\, maschinelle
 s Lernen und Cloud-Computing demonstriert. Diese Technologien machen neue 
 Ideen im Bereich der Energieeffizienz und der Gestaltung der sozialen Räu
 me von smarten Gebäuden möglich.
 Dieses Webinar zeigt den Wandel von s
 marten Gebäuden zu lernenden Infrastrukturen.
LOCATION:Zürich\, Schweiz
DTSTART:20230626T143000Z
DTEND:20230626T153000Z
DTSTAMP:20230227T102454Z
ORGANIZER;CN=IFMA Schweiz :MAILTO:admin@ifma.ch
GEO:47.376887;8.541694
X-APPLE-STRUCTURED-LOCATION;VALUE=URI;X-ADDRESS=Zürich\, Schweiz;X-APPLE-R
 ADIUS=72;X-TITLE=online:47.376887;8.541694
END:VEVENT
END:VCALENDAR