BEGIN:VCALENDAR
VERSION:2.0
PRODID:Events Booking
BEGIN:VEVENT
UID:69e7f602c62a5
SUMMARY:VERSCHOBEN: IFMA Roadshow FM und BIM
DESCRIPTION:
 Aufgrund der aktuellen Entwicklung der Covid 19 Fälle\, wir
 d diese Veranstaltung verschoben voraussichtlich auf 28. April 2021 (Datum
  muss vom Gastgeber noch bestätigt werden)
 Programm
 Vier Jahre nach V
 eröffentlichung des IFMA Positionspapiers FM und BIM möchten wir beleuch
 ten wo der Markt heute steht.
 
LOCATION:Hardturmstrasse 181\, 8005 Zürich\, Schweiz
DTSTART:20201021T150000Z
DTEND:20201021T173000Z
DTSTAMP:20260422T001114Z
ORGANIZER;CN=IFMA Schweiz :MAILTO:admin@ifma.ch
GEO:47.393061;8.510647
X-APPLE-STRUCTURED-LOCATION;VALUE=URI;X-ADDRESS=Hardturmstrasse 181\, 8005 
 Zürich\, Schweiz;X-APPLE-RADIUS=72;X-TITLE=Zürich\, Baustelle Atmos Hard
 strumstrasse 181:47.393061;8.510647
END:VEVENT
END:VCALENDAR