BEGIN:VCALENDAR
VERSION:2.0
PRODID:Events Booking
BEGIN:VEVENT
UID:69e7c770ea494
SUMMARY:Site Visit xDC Wankdorf Bern
DESCRIPTION:&nbsp\;
 Detailprogramm
 
LOCATION:Stauffacherstrasse Brücke 59\, 3014 Bern\, Schweiz
DTSTART:20180124T160000Z
DTEND:20180124T181500Z
DTSTAMP:20260421T205232Z
ORGANIZER;CN=IFMA Schweiz :MAILTO:admin@ifma.ch
GEO:46.96813;7.45506
X-APPLE-STRUCTURED-LOCATION;VALUE=URI;X-ADDRESS=Stauffacherstrasse Brücke 
 59\, 3014 Bern\, Schweiz;X-APPLE-RADIUS=72;X-TITLE=Bern\, Rechencenter xDC
  Wankdorf:46.96813;7.45506
END:VEVENT
END:VCALENDAR