BEGIN:VCALENDAR
VERSION:2.0
PRODID:Events Booking
BEGIN:VEVENT
UID:69ecec60eb935
SUMMARY:Site Visit: Spital-Neubau \"Horizont\" aus der FM Perspektive
DESCRIPTION:
 Am 1. Januar 2000 wurden alle öffentlichen Spitäler im Kan
 ton Thurgau in der Spital Thurgau AG zusammengefasst. Ab 2015 wurden dann 
 alle Immobilien gesamtheitlich von dieser Organisation übernommen. Die Sp
 ital Thurgau AG\, respektive deren Immobilen AG\, haben in der Periode 201
 3 bis ca. 2021 - nach der Fertigstellung des Projekts \"Horizont\" - an al
 l ihren Standorten total gut 550 Mio. Fr. in die komplette Erneuerung\, An
 passung und den Ausbau der von ihr genutzten Immobilien und deren technisc
 he Einrichtungen investiert.
 Wir freuen uns\, unterschiedliche Themenfel
 der des Neubauprojektes \"Horizont\" aus der Perspektive des Facility Mana
 gements betrachten zu dürfen.
 Detailprogramm
 
LOCATION:Pfaffenholzstrasse 4\, 8500 Frauenfeld\, Schweiz
DTSTART:20200219T161500Z
DTEND:20200219T190000Z
DTSTAMP:20260425T183128Z
ORGANIZER;CN=IFMA Schweiz :MAILTO:admin@ifma.ch
GEO:47.549279;8.910285
X-APPLE-STRUCTURED-LOCATION;VALUE=URI;X-ADDRESS=Pfaffenholzstrasse 4\, 8500
  Frauenfeld\, Schweiz;X-APPLE-RADIUS=72;X-TITLE=Kantonsspital Frauenfeld:4
 7.549279;8.910285
END:VEVENT
END:VCALENDAR