BEGIN:VCALENDAR
VERSION:2.0
PRODID:Events Booking
BEGIN:VEVENT
UID:69e7c858bbf8e
SUMMARY:Site Visit: Ferring International Center SA - la gestion des enviro
 nnements de travail
DESCRIPTION:
 Le chapitre Romand de l'IFMA Suisse et la Direction de Ferri
 ng International Center SA\, société pharmaceutique mondialement ont le 
 plaisir de vous inviter à un « Site Visit ».
 Programme en détail
 &
 nbsp\;
 &nbsp\;
LOCATION:Route de Pallatex 29\, 1162 Saint-Prex\, Schweiz
DTSTART:20180201T160000Z
DTEND:20180201T183000Z
DTSTAMP:20260421T205624Z
ORGANIZER;CN=IFMA Schweiz :MAILTO:admin@ifma.ch
GEO:46.479096;6.433668
X-APPLE-STRUCTURED-LOCATION;VALUE=URI;X-ADDRESS=Route de Pallatex 29\, 1162
  Saint-Prex\, Schweiz;X-APPLE-RADIUS=72;X-TITLE=St. Prex\, VALE Internatio
 nal SA:46.479096;6.433668
END:VEVENT
END:VCALENDAR