BEGIN:VCALENDAR
VERSION:2.0
PRODID:Events Booking
BEGIN:VEVENT
UID:69ea0350a494c
SUMMARY:Site Visit CO2 neutrale Wohnsiedlung und innovatives Abrechnungskon
 zept
DESCRIPTION:
 Wir besuchen die Neubausiedlung Am Aawasser in Buochs (Nidwa
 lden). Die Wohnungen sind CO2 neutral und dazu gibt es ein spezielles Verm
 ietungskonzept mit Zusatzleistungen.Anschliessend gemütliches \"Bräteln\
 " am See bei hoffentlich sommerlichen Temperaturen.
 Teilnehmerzahl auf 2
 0 beschränkt. Gäste sind herzlich willkommen (Mitglieder kostenlos\; Gä
 ste Unkostenbeitrag 30.- in bar vor Ort)
 Programm
 
LOCATION:Ennetbürgerstrasse 36\, 6374 Buochs\, Schweiz
DTSTART:20200813T143000Z
DTEND:20200813T181500Z
DTSTAMP:20260423T133232Z
ORGANIZER;CN=IFMA Schweiz :MAILTO:admin@ifma.ch
GEO:46.976817;8.417573
X-APPLE-STRUCTURED-LOCATION;VALUE=URI;X-ADDRESS=Ennetbürgerstrasse 36\, 63
 74 Buochs\, Schweiz;X-APPLE-RADIUS=72;X-TITLE=Buochs:46.976817;8.417573
END:VEVENT
END:VCALENDAR