BEGIN:VCALENDAR
VERSION:2.0
PRODID:Events Booking
BEGIN:VEVENT
UID:69eb34f95b791
SUMMARY:Lunchgespräch - Energieengpass
DESCRIPTION:&nbsp\;Anmeldeschluss 18.11.2022
 
 &nbsp\;
 &nbsp\;
LOCATION:Zürich\, Schweiz
DTSTART:20221122T110000Z
DTEND:20221122T120000Z
DTSTAMP:20221027T063051Z
ORGANIZER;CN=IFMA Schweiz :MAILTO:admin@ifma.ch
GEO:47.376887;8.541694
X-APPLE-STRUCTURED-LOCATION;VALUE=URI;X-ADDRESS=Zürich\, Schweiz;X-APPLE-R
 ADIUS=72;X-TITLE=online:47.376887;8.541694
END:VEVENT
END:VCALENDAR