BEGIN:VCALENDAR
VERSION:2.0
PRODID:Events Booking
BEGIN:VEVENT
UID:69e803f1c0429
SUMMARY:IFMA Webinaire du Groupe Romandie: Indicateurs clé de performance\
 , KPI\, pour le FM
DESCRIPTION:Programme
 Interactive webinaire avec Manahen Barilier
 Le li
 en sera envoyé un jour avant le webinaire.
 
LOCATION:Zürich\, Schweiz
DTSTART:20211124T110000Z
DTEND:20211124T113000Z
DTSTAMP:20260422T011041Z
ORGANIZER;CN=IFMA Schweiz :MAILTO:admin@ifma.ch
GEO:47.376887;8.541694
X-APPLE-STRUCTURED-LOCATION;VALUE=URI;X-ADDRESS=Zürich\, Schweiz;X-APPLE-R
 ADIUS=72;X-TITLE=online:47.376887;8.541694
END:VEVENT
END:VCALENDAR