BEGIN:VCALENDAR
VERSION:2.0
PRODID:Events Booking
BEGIN:VEVENT
UID:69eb35604375c
SUMMARY:IFMA Spotlight 2022: Big Building - Big Complexity
DESCRIPTION:
 Programm: Grosse Bauvorhaben im Zusammenspiel FM und BAU
 
 
 Frankfurter Flughafen: Grossbaustelle mit gut 200 Bauleitern
 Innovativ
 e und integrale Beschaffungsmodelle der EMPA
 BIM-Bauten Roche Tower 2 un
 d die Herausforderungen
 Vom Betrieb her gedacht: interessantes Spitalpro
 jekt im Waadtland (Referat in Englisch)
 
 
LOCATION:Überlandstrasse 129\, 8600 Dübendorf\, Schweiz
DTSTART:20220628T110000Z
DTEND:20220628T170000Z
DTSTAMP:20260424T111824Z
ORGANIZER;CN=IFMA Schweiz :MAILTO:admin@ifma.ch
GEO:47.402243;8.612034
X-APPLE-STRUCTURED-LOCATION;VALUE=URI;X-ADDRESS=Überlandstrasse 129\, 8600
  Dübendorf\, Schweiz;X-APPLE-RADIUS=72;X-TITLE=Dübendorf\, EMPA-Akademie
 :47.402243;8.612034
END:VEVENT
END:VCALENDAR