BEGIN:VCALENDAR
VERSION:2.0
PRODID:Events Booking
BEGIN:VEVENT
UID:69e7ba990af0c
SUMMARY:IFMA Site Visit: Verkehrsknotenpunkt Bahnhof Zürich Oerlikon
DESCRIPTION:&nbsp\;
 Projektvorstellung und Besichtigung des Bahnhofs Zür
 ich Oerlikon
 Detailprogramm
 &nbsp\;
 
LOCATION:Caffè Spettacolo 
DTSTART:20171018T160000Z
DTEND:20171018T180000Z
DTSTAMP:20260421T195745Z
ORGANIZER;CN=IFMA Schweiz :MAILTO:admin@ifma.ch
GEO:47.411744;8.543856
X-APPLE-STRUCTURED-LOCATION;VALUE=URI;X-ADDRESS=Caffè Spettacolo ;X-APPLE-
 RADIUS=72;X-TITLE=Zürich\, Bahnhof Zürich Oerlikon:47.411744;8.543856
END:VEVENT
END:VCALENDAR