BEGIN:VCALENDAR
VERSION:2.0
PRODID:Events Booking
BEGIN:VEVENT
UID:69eb26c5aba42
SUMMARY:IFMA Site Visit Headquarter Incyte
DESCRIPTION:Programme
 Transformation d’une ancienne fabrique de pâtes 
 à Morges (Pasta Gala)\, en un espace administratif utilisé comme siège 
 social européen de l’entreprise Incyte Biosciences International. Le b
 âtiment regroupe 10'000 m2 de surface. Il a reçu en 2021 le 1er prix d
 ’architecture de la catégorie régénération urbaine\, avec un projet 
 qui préserve la mémoire industrielle du site et privilégie la clarté e
 t la transparence\, ainsi que le prix Bilan.
 Conférancier Stéphane Div
 oux\, Directeur Facilities Europe IncyteModeration Thierry Huggler IFMA Gr
 oupe Romandie\, UEFA
 
LOCATION:Rue Dr Yersin 12\, 1110 Morges\, Schweiz
DTSTART:20221020T150000Z
DTEND:20221020T170000Z
DTSTAMP:20220926T155850Z
ORGANIZER;CN=IFMA Schweiz :MAILTO:admin@ifma.ch
GEO:46.512925;6.497996
X-APPLE-STRUCTURED-LOCATION;VALUE=URI;X-ADDRESS=Rue Dr Yersin 12\, 1110 Mor
 ges\, Schweiz;X-APPLE-RADIUS=72;X-TITLE=Morges\, Incyte:46.512925;6.497996
END:VEVENT
END:VCALENDAR