BEGIN:VCALENDAR
VERSION:2.0
PRODID:Events Booking
BEGIN:VEVENT
UID:69ea5f41188b6
SUMMARY:Voravis: IFMA Roadshow FM und BIM - Zürich
DESCRIPTION:
 Die Roadshow wird verschoben\, da wir derzeit keine geeignet
 en Räumlichkeiten mit Bezug zu BIM finden. Das neue Datum wird so bald al
 s möglich bekannt gegeben. Eine Anmeldung ist daher noch nicht möglich.
 
 Programm
 Vier Jahre nach Veröffentlichung des IFMA Positionspapiers F
 M und BIM möchten wir beleuchten wo der Markt heute steht.
 
LOCATION:Hardturmstrasse 181\, 8005 Zürich\, Schweiz
DTSTART:20210929T150000Z
DTEND:20210929T173000Z
DTSTAMP:20260423T200449Z
ORGANIZER;CN=IFMA Schweiz :MAILTO:admin@ifma.ch
GEO:47.393061;8.510647
X-APPLE-STRUCTURED-LOCATION;VALUE=URI;X-ADDRESS=Hardturmstrasse 181\, 8005 
 Zürich\, Schweiz;X-APPLE-RADIUS=72;X-TITLE=Zürich\, Baustelle Atmos Hard
 strumstrasse 181:47.393061;8.510647
END:VEVENT
END:VCALENDAR