BEGIN:VCALENDAR
VERSION:2.0
PRODID:Events Booking
BEGIN:VEVENT
UID:69e7c8581257e
SUMMARY:IFMA Road Show: Eigentümerhaftung und Betreiberverantwortung  - Ro
 tkreuz
DESCRIPTION:
 Detailprogramm 
 &nbsp\;
 Die Gesetze im deutschsprachigen
  Raum lassen keinen Spielraum\, wenn es um die Verantwortung der Eigentüm
 er für ihre Immobilien geht. Umfangreiche gesetzliche Anforderungen\, Ver
 ordnungen\, Normen und Richtlinien geben den Rahmen vor\, in dem Immobilie
 neigentümer den Betrieb ihrer Immobilien rechtskonform abwickeln müssen.
  Aber auch Projektentwickler und Bauabteilungen sind immer stärker geford
 ert\, den Immobilienbetrieb mit einer systematischen Inbetriebnahme und Ü
 bergabe sowie digitaler Bestandsdokumentation rechtssicher vorzubereiten.
 
 Verhindert um an der Präsentation teilzunehmen? Die Dokumentation könn
 en Sie hier bestellen. IFMA und CRB Mitglieder erhalten 15% Rabatt auf den
  regulären Preis von CHF 158.-
 
LOCATION:Suurstoffi 8\, 6343 Rotkreuz ZG\, Schweiz
DTSTART:20181203T160000Z
DTEND:20181203T180000Z
DTSTAMP:20260421T205624Z
ORGANIZER;CN=IFMA Schweiz :MAILTO:admin@ifma.ch
GEO:47.143557;8.434465
X-APPLE-STRUCTURED-LOCATION;VALUE=URI;X-ADDRESS=Suurstoffi 8\, 6343 Rotkreu
 z ZG\, Schweiz;X-APPLE-RADIUS=72;X-TITLE=Rotkreuz\, Suurstoffi 8:47.143557
 ;8.434465
END:VEVENT
END:VCALENDAR