BEGIN:VCALENDAR
VERSION:2.0
PRODID:Events Booking
BEGIN:VEVENT
UID:69e7c8580a79d
SUMMARY:IFMA Road Show: Eigentümerhaftung u. Betreiberverantwortung - Zür
 ich
DESCRIPTION:
 Detailprogramm 
 Treffpunkt im Glattzentrum: Gebäudeteil G
 latt Plus im 2. OG befindet sich das Sitzungszimmer GLPU 2 &gt\;&gt\; Plan
 
 Die Gesetze im deutschsprachigen Raum lassen keinen Spielraum\, wenn es
  um die Verantwortung der Eigentümer für ihre Immobilien geht. Umfangrei
 che gesetzliche Anforderungen\, Verordnungen\, Normen und Richtlinien gebe
 n den Rahmen vor\, in dem Immobilieneigentümer den Betrieb ihrer Immobili
 en rechtskonform abwickeln müssen. Aber auch Projektentwickler und Bauabt
 eilungen sind immer stärker gefordert\, den Immobilienbetrieb mit einer s
 ystematischen Inbetriebnahme und Übergabe sowie digitaler Bestandsdokumen
 tation rechtssicher vorzubereiten.
 Verhindert um an der Präsentation te
 ilzunehmen? Die Dokumentation können Sie hier bestellen. IFMA und CRB Mit
 glieder erhalten 15% Rabatt auf den regulären Preis von CHF 158.-
  
LOCATION:Einkaufszentrum Glatt\, Neue Winterthurerstrasse 99\, 8304 Wallise
 llen\, Schweiz
DTSTART:20181129T160000Z
DTEND:20181129T180000Z
DTSTAMP:20260421T205624Z
ORGANIZER;CN=IFMA Schweiz :MAILTO:admin@ifma.ch
GEO:47.408453;8.596056
X-APPLE-STRUCTURED-LOCATION;VALUE=URI;X-ADDRESS=Einkaufszentrum Glatt\, Neu
 e Winterthurerstrasse 99\, 8304 Wallisellen\, Schweiz;X-APPLE-RADIUS=72;X-
 TITLE=Zürich\, Glattzentrum GLATT PLUS 2. OG SZ GLPU-2:47.408453;8.596056
END:VEVENT
END:VCALENDAR