BEGIN:VCALENDAR
VERSION:2.0
PRODID:Events Booking
BEGIN:VEVENT
UID:69e814882e9e7
SUMMARY:IFMA Meets: ZHELIO – Digitale Assistenz im Gebäude der Zukunft
DESCRIPTION:
 Programm
 Am Webinar erhalten Sie Einblick in die digitalen
  Assistenzsysteme in Gebäuden. Integrierte Sensoren liefern den Menschen 
 Live-Updates und versetzen sie in die Lage mit dem Gebäude zu interagiere
 n.
 Webinar mit Hans-Joachim Demmel und Björn Erb\, Moderation Dr. Simon
  Ashworth
 Am Vormittag vom Webinar erhalten Sie einen Aktivierungslink f
 ür Zoom. 
 Gäste bitten wir den Betrag von CHF 25.- mit TWINT sofort zu
  begleichen\, spätestens bis 12h am Webinartag. Andernfalls kann keine Ge
 währ seitens IFMA übernommen werden\, dass die Zahlung rechtzeitig eintr
 ifft und somit der Link noch zeitgerecht zugestellt werden kann. Somit ver
 fällt ihre Zahlung ohne Anspruch auf Rückvergütung.
 
LOCATION:Zürich\, Schweiz
DTSTART:20220519T143000Z
DTEND:20220519T153000Z
DTSTAMP:20220318T152108Z
ORGANIZER;CN=IFMA Schweiz :MAILTO:admin@ifma.ch
GEO:47.376887;8.541694
X-APPLE-STRUCTURED-LOCATION;VALUE=URI;X-ADDRESS=Zürich\, Schweiz;X-APPLE-R
 ADIUS=72;X-TITLE=online:47.376887;8.541694
END:VEVENT
END:VCALENDAR