BEGIN:VCALENDAR
VERSION:2.0
PRODID:Events Booking
BEGIN:VEVENT
UID:69e8044007a95
SUMMARY:IFMA Meets: Wie und wann bieten digitale Zwillinge Mehrwerte?
DESCRIPTION:&gt\;&gt\;&gt\; Programm
 In diesem Webinar möchten wir Sie m
 it Technologien vertraut machen\, die die Kosten der Digitalisierung auf e
 in Minimum reduzieren und somit die Erzeugung und Pflege von digitalen Zwi
 llingen wirtschaftlich abbildbar machen.
 Webinar mit Adrian Merkel und N
 emanja Velikovic\, Moderation Dr. Simon Ashworth
 Am Vormittag vom Webina
 r erhalten Sie einen Aktivierungslink für Zoom.
 
LOCATION:Zürich\, Schweiz
DTSTART:20211125T153000Z
DTEND:20211125T163000Z
DTSTAMP:20260422T011200Z
ORGANIZER;CN=IFMA Schweiz :MAILTO:admin@ifma.ch
GEO:47.376887;8.541694
X-APPLE-STRUCTURED-LOCATION;VALUE=URI;X-ADDRESS=Zürich\, Schweiz;X-APPLE-R
 ADIUS=72;X-TITLE=online:47.376887;8.541694
END:VEVENT
END:VCALENDAR