BEGIN:VCALENDAR
VERSION:2.0
PRODID:Events Booking
BEGIN:VEVENT
UID:69e8040b9ffae
SUMMARY:IFMA Meets: From Bricks to Bits
DESCRIPTION:Programm 
 Webinar mit Dr. Joachim Baldegger\, Moderation Dr. 
 Simon Ashworth
 Am Vormittag vom Webinar erhalten Sie einen Aktivierungsl
 ink für Zoom.
 
LOCATION:Zürich\, Schweiz
DTSTART:20220127T153000Z
DTEND:20220127T163000Z
DTSTAMP:20260422T011107Z
ORGANIZER;CN=IFMA Schweiz :MAILTO:admin@ifma.ch
GEO:47.376887;8.541694
X-APPLE-STRUCTURED-LOCATION;VALUE=URI;X-ADDRESS=Zürich\, Schweiz;X-APPLE-R
 ADIUS=72;X-TITLE=online:47.376887;8.541694
END:VEVENT
END:VCALENDAR