BEGIN:VCALENDAR
VERSION:2.0
PRODID:Events Booking
BEGIN:VEVENT
UID:69e7f5ecd9d8a
SUMMARY:IFMA Meets: Plattform für BIM Informations-Anforderungen
DESCRIPTION:&gt\;&gt\;&gt\; Programm
 Das IFMA Webinar stellt mit LIBAL ei
 ne Plattform für BIM Informations-Anforderungen vor. Somit haben die Auft
 raggeber ihre Anlagen und Gebäude hinsichtlich Kosten\, Termin\, Dokument
 ation und Qualität im Griff. Für die Betreiber zeigt das Tool alle Wartu
 ngs-\, Inspektions- und Service-Arbeiten und hilft so die Objekte und Anla
 gen im Wert zu erhalten.
 Webinar mit&nbsp\;Daniel Schwarz\, Moderation D
 r. Simon Ashworth
 Einen Tag vor dem Webinar erhalten Sie einen Aktivieru
 ngslink für Zoom.
 
LOCATION:Zürich\, Schweiz
DTSTART:20210527T143000Z
DTEND:20210527T153000Z
DTSTAMP:20260422T001052Z
ORGANIZER;CN=IFMA Schweiz :MAILTO:admin@ifma.ch
GEO:47.376887;8.541694
X-APPLE-STRUCTURED-LOCATION;VALUE=URI;X-ADDRESS=Zürich\, Schweiz;X-APPLE-R
 ADIUS=72;X-TITLE=online:47.376887;8.541694
END:VEVENT
END:VCALENDAR