BEGIN:VCALENDAR
VERSION:2.0
PRODID:Events Booking
BEGIN:VEVENT
UID:69e803f1ef2bd
SUMMARY:IFMA Meets: FM bestellt BIM!
DESCRIPTION:Programm
 Webinar mit Susanna Caravatti-Felchlin und Sebastian
  Toszeghi \, Moderation Dr. Simon Ashworth
 BIM Strategie durchsetzen aus
  FM- und Bauherrensicht
 
 Wie etabliert man eine BIM Strategie aus FM S
 icht und bestellt die entsprechenden Daten während dem Bauprozess
 Wie g
 eht ein grosses\, modernes Spital um\, mit den Anforderungen der Digitalis
 ierung ihrer Neubauten?
 Wie kann BIM während dem Bau und nachher im Bet
 rieb den Spitalbetrieb unterstützen?
 
 Am Vormittag vom Webinar erhalt
 en Sie einen Aktivierungslink für Zoom.
 
LOCATION:Zürich\, Schweiz
DTSTART:20211215T153000Z
DTEND:20211215T163000Z
DTSTAMP:20260422T011041Z
ORGANIZER;CN=IFMA Schweiz :MAILTO:admin@ifma.ch
GEO:47.376887;8.541694
X-APPLE-STRUCTURED-LOCATION;VALUE=URI;X-ADDRESS=Zürich\, Schweiz;X-APPLE-R
 ADIUS=72;X-TITLE=online:47.376887;8.541694
END:VEVENT
END:VCALENDAR