BEGIN:VCALENDAR
VERSION:2.0
PRODID:Events Booking
BEGIN:VEVENT
UID:69e8343b3b468
SUMMARY:IFMA Meets: Energie im Griff: Energiemanagement-Systeme für das Ge
 bäude
DESCRIPTION:
 ProgrammEnergiemanagementsysteme (EMS) spielen eine entschei
 dende Rolle bei der effizienten Nutzung von Energie. In diesem Vortrag wir
 d der Zusammenhang zwischen EMS und Facility Management untersucht. Wir be
 trachten den Einsatz von EMS zur Energieeffizienz- und Kostenoptimierung\,
  diskutieren die Rolle von EMS für Nachhaltigkeit und Umweltschutz und er
 örtern die Voraussetzungen für die Auswahl und den Betrieb eines EMS.Ref
 erent: Olivier Steiger\, Dozent und Forschungsgruppenleiter\, HSLUModerato
 r: Simon Ashworth
LOCATION:Zürich\, Schweiz
DTSTART:20240701T143000Z
DTEND:20240701T153000Z
DTSTAMP:20240206T112032Z
ORGANIZER;CN=IFMA Schweiz :MAILTO:admin@ifma.ch
GEO:47.376887;8.541694
X-APPLE-STRUCTURED-LOCATION;VALUE=URI;X-ADDRESS=Zürich\, Schweiz;X-APPLE-R
 ADIUS=72;X-TITLE=online:47.376887;8.541694
END:VEVENT
END:VCALENDAR