BEGIN:VCALENDAR
VERSION:2.0
PRODID:Events Booking
BEGIN:VEVENT
UID:69e81489a7ef4
SUMMARY:IFMA Meets: Datenhoheit - wem gehören die Daten
DESCRIPTION:Programm
 Die Bedeutung des Facility Management und der für d
 en Betrieb eines Bauwerks benötigten Daten wird oft unterschätzt. Dabei 
 liegt das grösste Wertschöpfungspotential im Betrieb! Was kann auf recht
 licher Ebene vorgekehrt werden \, damit die für den Betrieb der Liegensch
 aft benötigen Bauwerksdaten geliefert und vor allem auch genutzt werden k
 önnen.
 Präsentation von David Schwaninger
 Moderation Dr. Simon Ashwo
 rthEinführung Dr. Isabelle Wrase
 
LOCATION:Zürich\, Schweiz
DTSTART:20221026T143000Z
DTEND:20221026T153000Z
DTSTAMP:20220912T075837Z
ORGANIZER;CN=IFMA Schweiz :MAILTO:admin@ifma.ch
GEO:47.376887;8.541694
X-APPLE-STRUCTURED-LOCATION;VALUE=URI;X-ADDRESS=Zürich\, Schweiz;X-APPLE-R
 ADIUS=72;X-TITLE=online:47.376887;8.541694
END:VEVENT
END:VCALENDAR