BEGIN:VCALENDAR
VERSION:2.0
PRODID:Events Booking
BEGIN:VEVENT
UID:69e814db199ca
SUMMARY:IFMA Meets Arbeitsplatzauslastung von Büroarbeitsplätzen im Spita
 l
DESCRIPTION:Programm
 Verwaltungsarbeitsplätze des medizinischen Personal
 s\, die nicht mit Patienten zu tun haben\, sind oft nur wenig besetzt\, da
  die Ärzte in ihrer täglichen Routine verschiedene Räume nutzen. Belegu
 ngsdaten für Verwaltungsarbeitsplätze in Krankenhäusern sind rar\, werd
 en aber als Grundlage für die Planung kostspieliger Projekte benötigt.

  Entsprechend dieser Analyse sind Flächeneffizienzpotenziale vorhanden 
 – doch was bedeutet das konkret für die Praxis?
 Referentin Stefanie L
 ange\, ZHAWModeration Simon Ashworth\, ZHAWEinleitung Isabelle Wrase\, Co-
 Präsidentin IFMA
 
LOCATION:Zürich\, Schweiz
DTSTART:20230125T153000Z
DTEND:20230125T163000Z
DTSTAMP:20221031T111701Z
ORGANIZER;CN=IFMA Schweiz :MAILTO:admin@ifma.ch
GEO:47.376887;8.541694
X-APPLE-STRUCTURED-LOCATION;VALUE=URI;X-ADDRESS=Zürich\, Schweiz;X-APPLE-R
 ADIUS=72;X-TITLE=online:47.376887;8.541694
END:VEVENT
END:VCALENDAR