BEGIN:VCALENDAR
VERSION:2.0
PRODID:Events Booking
BEGIN:VEVENT
UID:69eb2392dc256
SUMMARY:IFMA Meets:
DESCRIPTION:
 Le programme arrive environ trois semaines à l'avance
LOCATION:Zürich\, Schweiz
DTSTART:20251120T110000Z
DTEND:20251120T114500Z
DTSTAMP:20240529T075250Z
ORGANIZER;CN=IFMA Schweiz :MAILTO:admin@ifma.ch
GEO:47.376887;8.541694
X-APPLE-STRUCTURED-LOCATION;VALUE=URI;X-ADDRESS=Zürich\, Schweiz;X-APPLE-R
 ADIUS=72;X-TITLE=online:47.376887;8.541694
END:VEVENT
END:VCALENDAR