BEGIN:VCALENDAR
VERSION:2.0
PRODID:Events Booking
BEGIN:VEVENT
UID:69e7c7719e223
SUMMARY:IFMA GV
DESCRIPTION:
 &nbsp\;
 &nbsp\;
 &nbsp\;Programm
 15.00h Event für Neum
 itglieder Vulkanplatz 11
 16.00h Eintreffen und Registrierung Vulkanplatz
  816.30h 22. ordentliche Generalversammlung18.00h FM Strategie SBB Immobil
 ien\, ein virtueller Rundgangab 19.00 h Apéro und Networking
 
LOCATION:Vulkanpl. 8\, 8048 Zürich\, Schweiz
DTSTART:20190828T140000Z
DTEND:20190828T173000Z
DTSTAMP:20260421T205233Z
ORGANIZER;CN=IFMA Schweiz :MAILTO:admin@ifma.ch
GEO:47.391668;8.491766
X-APPLE-STRUCTURED-LOCATION;VALUE=URI;X-ADDRESS=Vulkanpl. 8\, 8048 Zürich\
 , Schweiz;X-APPLE-RADIUS=72;X-TITLE=Zürich-Altstetten\, Westlink Tower:47
 .391668;8.491766
END:VEVENT
END:VCALENDAR