BEGIN:VCALENDAR
VERSION:2.0
PRODID:Events Booking
BEGIN:VEVENT
UID:69e813cc86a42
SUMMARY:IFMA Expert Talk: Webinaire ProLeMo 2021
DESCRIPTION:
 Programme
 ProLeMo 2021 est le modèle de processus et de p
 restations pour le Facility Management actualisés qui définit les proces
 sus essentiels et classe toutes les prestations nécessaires à une bonne 
 gestion des biens immobiliers. Elle garantit ainsi l'interopérabilité de
 s données de l'ouvrage à travers la subdivision des coûts d'exploitatio
 n données. Elle sert de base de compréhension commune.
 
 Quels est so
 n intégration dans l’environnement d’une entreprise ?
 Quels sont le
 s exemples d’une intégration réeussies ?
 Quelles sont les évolution
 s à venir ?
 
 Conférancier: Manahen Barilier
 
LOCATION:Zürich\, Schweiz
DTSTART:20220922T100000Z
DTEND:20220922T103000Z
DTSTAMP:20260422T021820Z
ORGANIZER;CN=IFMA Schweiz :MAILTO:admin@ifma.ch
GEO:47.376887;8.541694
X-APPLE-STRUCTURED-LOCATION;VALUE=URI;X-ADDRESS=Zürich\, Schweiz;X-APPLE-R
 ADIUS=72;X-TITLE=online:47.376887;8.541694
END:VEVENT
END:VCALENDAR