BEGIN:VCALENDAR
VERSION:2.0
PRODID:Events Booking
BEGIN:VEVENT
UID:69eb23a7b3974
SUMMARY:IFMA Expert Talk: Immobilier Intelligent - Internets des Objects (I
 dO)
DESCRIPTION:
 Programme
 Toutes les entreprises sont constamment mises au
  défi d’optimiser leurs processus d’exploitation non seulement d’un
  point de vue énergétique\, mais aussi d’un point de vue holistique. C
 ette présentation à pour but de montrer quelle contribution l’Internet
  des Objets (IdO) peut apporter en tant que tendance importante.
 
 Quel
 s est son intégration dans l’environnement d’une entreprise ?
 Quels
  sont les exemples d’une intégration réussies ?
 Quelles sont les év
 olutions à venir ?
 
 Conférencier: Manahen BarilierModeration: Thierr
 y Huggler
 
LOCATION:Zürich\, Schweiz
DTSTART:20221124T110000Z
DTEND:20221124T113000Z
DTSTAMP:20260424T100247Z
ORGANIZER;CN=IFMA Schweiz :MAILTO:admin@ifma.ch
GEO:47.376887;8.541694
X-APPLE-STRUCTURED-LOCATION;VALUE=URI;X-ADDRESS=Zürich\, Schweiz;X-APPLE-R
 ADIUS=72;X-TITLE=online:47.376887;8.541694
END:VEVENT
END:VCALENDAR