BEGIN:VCALENDAR
VERSION:2.0
PRODID:Events Booking
BEGIN:VEVENT
UID:69e7fbd8ca97b
SUMMARY:IFMA Expert Talk: Anticipation de la gestion de la Mobilité 
DESCRIPTION:Programme
 Lieu de rendez-vous pour l’Expert Talk: Salon RH\
 , Forum «&nbsp\;Keynote-Arena&nbsp\;»\, Halle 2\, Palexpo\, Genève
 Po
 ur les membres de IFMA l'entrée au Salon RH est gratuite.
 
LOCATION:Route François-Peyrot 30\, 1218 Le Grand-Saconnex\, Schweiz
DTSTART:20191002T143000Z
DTEND:20191002T163000Z
DTSTAMP:20260422T003608Z
ORGANIZER;CN=IFMA Schweiz :MAILTO:admin@ifma.ch
GEO:46.233782;6.118217
X-APPLE-STRUCTURED-LOCATION;VALUE=URI;X-ADDRESS=Route François-Peyrot 30\,
  1218 Le Grand-Saconnex\, Schweiz;X-APPLE-RADIUS=72;X-TITLE=Grand-Saconnex
 /Genève\, Palexpo :46.233782;6.118217
END:VEVENT
END:VCALENDAR