BEGIN:VCALENDAR
VERSION:2.0
PRODID:Events Booking
BEGIN:VEVENT
UID:69e75653c1210
SUMMARY:Goodbye Summer - IFMA Expert Talk: Audio Visuelle Unterstützung im
  FM
DESCRIPTION:
 &nbsp\;
 &nbsp\;Programm
 &nbsp\;
 &nbsp\;
 
LOCATION:Emil Frey-Strasse 164\, 4142 Münchenstein\, Schweiz
DTSTART:20190920T143000Z
DTEND:20190920T180000Z
DTSTAMP:20260421T124955Z
ORGANIZER;CN=IFMA Schweiz :MAILTO:admin@ifma.ch
GEO:47.520216;7.606681
X-APPLE-STRUCTURED-LOCATION;VALUE=URI;X-ADDRESS=Emil Frey-Strasse 164\, 414
 2 Münchenstein\, Schweiz;X-APPLE-RADIUS=72;X-TITLE=Münchenstein\, Restau
 rant Gartenstadt Pavillion:47.520216;7.606681
END:VEVENT
END:VCALENDAR