BEGIN:VCALENDAR
VERSION:2.0
PRODID:Events Booking
BEGIN:VEVENT
UID:69e7c70d7437b
SUMMARY:Get Together
DESCRIPTION:
 Gemütlicher Austausch unter Berufskollegen
 Gastgeber: And
 ré Deppeler andré.deppeler@ifma.ch
LOCATION:Schützengasse 12\, 8001 Zürich\, Schweiz
DTSTART:20180118T163000Z
DTEND:20180118T210000Z
DTSTAMP:20260421T205053Z
ORGANIZER;CN=IFMA Schweiz :MAILTO:admin@ifma.ch
GEO:47.37642;8.539997
X-APPLE-STRUCTURED-LOCATION;VALUE=URI;X-ADDRESS=Schützengasse 12\, 8001 Z
 ürich\, Schweiz;X-APPLE-RADIUS=72;X-TITLE=Zürich\, D-Vino HB:47.37642;8.
 539997
END:VEVENT
END:VCALENDAR