BEGIN:VCALENDAR
VERSION:2.0
PRODID:Events Booking
BEGIN:VEVENT
UID:69ea029beaf49
SUMMARY:Get Together Zürich
DESCRIPTION:Austausch bei einem Glas Wein oder Bier. Gäste sind herzlich w
 illkommen.
 Anmeldung: andre.deppeler(at)ifma.ch
LOCATION:Schützengasse 12\, 8001 Zürich\, Schweiz
DTSTART:20170518T153000Z
DTEND:20170518T193000Z
DTSTAMP:20260423T132931Z
ORGANIZER;CN=IFMA Schweiz :MAILTO:admin@ifma.ch
GEO:47.37642;8.539997
X-APPLE-STRUCTURED-LOCATION;VALUE=URI;X-ADDRESS=Schützengasse 12\, 8001 Z
 ürich\, Schweiz;X-APPLE-RADIUS=72;X-TITLE=Zürich\, D-Vino HB:47.37642;8.
 539997
END:VEVENT
END:VCALENDAR