BEGIN:VCALENDAR
VERSION:2.0
PRODID:Events Booking
BEGIN:VEVENT
UID:69e803e303bdd
SUMMARY:Get Together Zürich
DESCRIPTION:
 In lockerer Atmosphäre bei einem Glas Wein oder Bier sich 
 über die beruflichen Herausforderungen austauschen. Gäste sind herzlich 
 willkommen.
 Anmeldung: philipp.braendli@ifma.ch
 &nbsp\;
 
LOCATION:Vulkanpl. 2\, 8048 Zürich\, Schweiz
DTSTART:20211125T170000Z
DTEND:20211125T203000Z
DTSTAMP:20260422T011027Z
ORGANIZER;CN=IFMA Schweiz :MAILTO:admin@ifma.ch
GEO:47.392057;8.49124
X-APPLE-STRUCTURED-LOCATION;VALUE=URI;X-ADDRESS=Vulkanpl. 2\, 8048 Zürich\
 , Schweiz;X-APPLE-RADIUS=72;X-TITLE=Zürich\, Restaurant Bunt:47.392057;8.
 49124
END:VEVENT
END:VCALENDAR