BEGIN:VCALENDAR
VERSION:2.0
PRODID:Events Booking
BEGIN:VEVENT
UID:69e9dc0a6924e
SUMMARY:Get Together Zürich
DESCRIPTION:
 Anmeldungen an andré.deppeler@ifma.ch
 Philipp Brändli wi
 rd ab 1.1.2021 der neue Regionalleiter Zürich und stellt sich vor.
 Folg
 ende Fragen möchten wir gemeinsam mit euch beantworten:
 
 was hat euch
  bisher gefallen
 was hat euch bisher gefehlt
 was können wir gemeinsam
  verbessern?
 Ideen Parkplatz
 
 Nutzt diese Chance\, um den Verband ge
 meinsam weiter zu bringen.
 
LOCATION:Zürich\, Schweiz
DTSTART:20201203T163000Z
DTEND:20201203T183000Z
DTSTAMP:20260423T104458Z
ORGANIZER;CN=IFMA Schweiz :MAILTO:admin@ifma.ch
GEO:47.376887;8.541694
X-APPLE-STRUCTURED-LOCATION;VALUE=URI;X-ADDRESS=Zürich\, Schweiz;X-APPLE-R
 ADIUS=72;X-TITLE=online:47.376887;8.541694
END:VEVENT
END:VCALENDAR