BEGIN:VCALENDAR
VERSION:2.0
PRODID:Events Booking
BEGIN:VEVENT
UID:69e7ba55859af
SUMMARY:Get Together Romandie (rencontre mensuelles)
DESCRIPTION:Inscription: roger.hemberger@ifma.ch
LOCATION:Avenue Favre Louis 8\, 1024 Ecublens\, Schweiz
DTSTART:20171003T160000Z
DTEND:20171003T173000Z
DTSTAMP:20260421T195637Z
ORGANIZER;CN=IFMA Schweiz :MAILTO:admin@ifma.ch
GEO:46.522963;6.567027
X-APPLE-STRUCTURED-LOCATION;VALUE=URI;X-ADDRESS=Avenue Favre Louis 8\, 1024
  Ecublens\, Schweiz;X-APPLE-RADIUS=72;X-TITLE=Ecublens\, Gina Restaurant:4
 6.522963;6.567027
END:VEVENT
END:VCALENDAR