BEGIN:VCALENDAR
VERSION:2.0
PRODID:Events Booking
BEGIN:VEVENT
UID:69e7c85908ab3
SUMMARY:Get Together Ostschweiz 1
DESCRIPTION:
 &nbsp\;
 In lockerer Atmosphäre bei einem Glas Wein oder B
 ier sich über die beruflichen Herausforderungen austauschen. Gäste sind 
 herzlich willkommen.
 &nbsp\;
 
LOCATION:Herrenacker 7\, 8200 Schaffhausen\, Schweiz
DTSTART:20190715T153000Z
DTEND:20190715T173000Z
DTSTAMP:20260421T205625Z
ORGANIZER;CN=IFMA Schweiz :MAILTO:admin@ifma.ch
GEO:47.695215;8.633192
X-APPLE-STRUCTURED-LOCATION;VALUE=URI;X-ADDRESS=Herrenacker 7\, 8200 Schaff
 hausen\, Schweiz;X-APPLE-RADIUS=72;X-TITLE=Schaffhausen\, Casino:47.695215
 ;8.633192
END:VEVENT
END:VCALENDAR