BEGIN:VCALENDAR
VERSION:2.0
PRODID:Events Booking
BEGIN:VEVENT
UID:69e832f90b52c
SUMMARY:IFMA Get Together Bern
DESCRIPTION:
 Bei lockerer Atmosphäre bei einem Glas Wein oder Bier sich 
 über die beruflichen Herausforderungen austauschen.Gäste sind herzlich w
 illkommen.
 Start: 18:00 - nach der VorstandsitzungOrt:&nbsp\;&nbsp\;&nbs
 p\; Restaurant National\, Bern
 Gerne möchten wir mit interessierten Mit
 gliedern folgende Themen besprechen:
 
 Aktuelles Vorstand
 GV 2024 Goo
 gle Europaallee
 Regionencircle – wie weiter?
 Inhalte der 4 Themen-Po
 ols IFMA
 
 Anmeldung: thomas.luethi@ifma.ch
LOCATION:Hirschengraben 24\, 3011 Bern\, Schweiz
DTSTART:20240507T160000Z
DTEND:20240507T170000Z
DTSTAMP:20240206T083602Z
ORGANIZER;CN=IFMA Schweiz :MAILTO:admin@ifma.ch
GEO:46.945959;7.437019
X-APPLE-STRUCTURED-LOCATION;VALUE=URI;X-ADDRESS=Hirschengraben 24\, 3011 Be
 rn\, Schweiz;X-APPLE-RADIUS=72;X-TITLE=Bern\, Restaurant National :46.9459
 59;7.437019
END:VEVENT
END:VCALENDAR