BEGIN:VCALENDAR
VERSION:2.0
PRODID:Events Booking
BEGIN:VEVENT
UID:69e7b8f216397
SUMMARY:Get Together Zentralschweiz
DESCRIPTION:
 &nbsp\;
 In lockerer Atmosphäre bei einem Glas Wein oder B
 ier sich über die beruflichen Herausforderungen austauschen. Gäste sind 
 herzlich willkommen.
 Themen als Auftakt zur Messe Zukunft Alter\, Luzern
 :
 
 Wohnen im Alter: Ein Thema für die FM-Branche?!
 Alter und Bewirt
 schaftung von Immobilien: Potentiale und Grenzen
 Bestandesimmobilien fit
  machen: Pflästerlipolitik oder wann kommen die Standards
 MONA Tool: We
 rkzeug für die Planung von Wohnungsanspassungen (David Fässler)
 
 &nb
 sp\;
 Anmeldung: daniela.bruehwiler@ifma.ch
LOCATION:Lakefront Centre\, Inseliquai 12\, 6005 Luzern\, Schweiz
DTSTART:20171012T160000Z
DTEND:20171012T183000Z
DTSTAMP:20260421T195042Z
ORGANIZER;CN=IFMA Schweiz :MAILTO:admin@ifma.ch
GEO:47.047939;8.313668
X-APPLE-STRUCTURED-LOCATION;VALUE=URI;X-ADDRESS=Lakefront Centre\, Inseliqu
 ai 12\, 6005 Luzern\, Schweiz;X-APPLE-RADIUS=72;X-TITLE=Luzern\, Hotel Rad
 isson Blue:47.047939;8.313668
END:VEVENT
END:VCALENDAR