BEGIN:VCALENDAR
VERSION:2.0
PRODID:Events Booking
BEGIN:VEVENT
UID:69ea5b972e12c
SUMMARY:Get Together Bern
DESCRIPTION:
 In lockerer Atmosphäre bei einem Glas Wein oder Bier sich 
 über die beruflichen Herausforderungen austauschen. Gäste sind herzlich 
 willkommen &gt\;&gt\;&gt\; Verschoben auf 29.9.2021
 Anmeldung: thomas.lu
 ethi@ifma.ch
 
LOCATION:Hirschengraben 24\, 3011 Bern\, Schweiz
DTSTART:20210923T153000Z
DTEND:20210923T170000Z
DTSTAMP:20260423T194911Z
ORGANIZER;CN=IFMA Schweiz :MAILTO:admin@ifma.ch
GEO:46.945959;7.437019
X-APPLE-STRUCTURED-LOCATION;VALUE=URI;X-ADDRESS=Hirschengraben 24\, 3011 Be
 rn\, Schweiz;X-APPLE-RADIUS=72;X-TITLE=Bern\, Restaurant National :46.9459
 59;7.437019
END:VEVENT
END:VCALENDAR