BEGIN:VCALENDAR
VERSION:2.0
PRODID:Events Booking
BEGIN:VEVENT
UID:69e8148f8eae3
SUMMARY:Rundgang Swissbau Focus zu FM und Digitalisierung
DESCRIPTION:
 Treffpunkt für die Führung am FM - Stand Swissbau Focus Ha
 lle 1.0 Süd\, Stand F19
 Headsets werden vor Ort abgegeben\, um die Inha
 lt gut zu verstehen.
 Gratis Messeeintritte in separtem Mailing für Mitg
 lieder der Verbände IFMA Schweiz\, fmpro\, SVIT FM Schweiz und RICS.
 
LOCATION:Messepl. 1\, 4058 Basel\, Schweiz
DTSTART:20220506T090000Z
DTEND:20220506T100000Z
DTSTAMP:20260422T022135Z
ORGANIZER;CN=IFMA Schweiz :MAILTO:admin@ifma.ch
GEO:47.563976;7.599431
X-APPLE-STRUCTURED-LOCATION;VALUE=URI;X-ADDRESS=Messepl. 1\, 4058 Basel\, S
 chweiz;X-APPLE-RADIUS=72;X-TITLE=Basel\, Messe Basel Halle 1.0 Süd:47.563
 976;7.599431
END:VEVENT
END:VCALENDAR