BEGIN:VCALENDAR
VERSION:2.0
PRODID:Events Booking
BEGIN:VEVENT
UID:69e833267c9a4
SUMMARY:27. IFMA Generalversammlung
DESCRIPTION:
 ProgrammWir begehen die 27. Generalversammlung (GV) in den B
 üroräumlichkeiten von ON in Zürich und stellen euch vor\, was die IFMA 
 Schweiz im Verbandsjahr erreicht hat. Zu jedem Ressort werden die Aktivit
 äten aus dem bestehenden Jahr und die Ziele für das kommende Verbandsjah
 r 2024/25 vorgestellt.
LOCATION:Förrlibuckstrasse 190\, 8005 Zürich\, Schweiz
DTSTART:20240829T133000Z
DTEND:20240829T173000Z
DTSTAMP:20240110T072217Z
ORGANIZER;CN=IFMA Schweiz :MAILTO:admin@ifma.ch
GEO:47.392433;8.510309
X-APPLE-STRUCTURED-LOCATION;VALUE=URI;X-ADDRESS=Förrlibuckstrasse 190\, 80
 05 Zürich\, Schweiz;X-APPLE-RADIUS=72;X-TITLE=Zürich\, ON:47.392433;8.51
 0309
END:VEVENT
END:VCALENDAR