BEGIN:VCALENDAR
VERSION:2.0
PRODID:Events Booking
BEGIN:VEVENT
UID:69ea90cf340bf
SUMMARY:Webinar IFMA Meets: Life Cycle Data Management konkret umgesetzt
DESCRIPTION:
 Programm
 
 Die Digitalisierung\, bzw. die Nutzung digital
 er Informationen bietet Hebel\, um Herausforderungen im Bereich ESG und SD
 G zu begegnen\, Zukunftsfähigkeit zu schaffen oder neue Geschäftsmodelle
  zu entwickeln.
 Für eine konkrete\, durchgängige und automatisierbare 
 Nutzung müssen digitale Informationen jedoch strukturiert\, maschinenlesb
 ar auf Eigentümerseite verfügbar sein. Die Umsetzung eines ganzheitliche
 n «LIFE CYCLE DATA MANAGEMENT» ist die Voraussetzung für Eigentümer un
 d Betreiber zur Aktivierung ihrer «digitalen» Hebel.
 beyondBIM zeigt i
 n diesem Werkbericht\, wie mit pragmatischen Mitteln konkrete Mehrwerte ge
 schaffen werden.
LOCATION:Zürich\, Schweiz
DTSTART:20230605T143000Z
DTEND:20230605T153000Z
DTSTAMP:20230227T102208Z
ORGANIZER;CN=IFMA Schweiz :MAILTO:admin@ifma.ch
GEO:47.376887;8.541694
X-APPLE-STRUCTURED-LOCATION;VALUE=URI;X-ADDRESS=Zürich\, Schweiz;X-APPLE-R
 ADIUS=72;X-TITLE=online:47.376887;8.541694
END:VEVENT
END:VCALENDAR