BEGIN:VCALENDAR
VERSION:2.0
PRODID:Events Booking
BEGIN:VEVENT
UID:69ea9e8dbca6e
SUMMARY:Webinar IFMA Meets: IoT - Chancen für das Facility Management
DESCRIPTION:
 Programm
 
 Durch den Einsatz von IoT-basierten Lösungen 
 kann das Facility Management effizienter gestaltet und Einsparungen bei de
 n Betriebs- und Wartungskosten erzielt werden. Das IoT hat somit das Poten
 zial\, das Facility Management grundlegend zu verändern und wird in Zukun
 ft eine immer wichtigere Rolle spielen.
LOCATION:Zürich\, Schweiz
DTSTART:20230522T143000Z
DTEND:20230522T153000Z
DTSTAMP:20230227T102208Z
ORGANIZER;CN=IFMA Schweiz :MAILTO:admin@ifma.ch
GEO:47.376887;8.541694
X-APPLE-STRUCTURED-LOCATION;VALUE=URI;X-ADDRESS=Zürich\, Schweiz;X-APPLE-R
 ADIUS=72;X-TITLE=online:47.376887;8.541694
END:VEVENT
END:VCALENDAR