BEGIN:VCALENDAR
VERSION:2.0
PRODID:Events Booking
BEGIN:VEVENT
UID:69e741a6e5572
SUMMARY:Warum brauche ich BACnet?
DESCRIPTION:
DTSTART:20180919T120000Z
DTEND:20180919T140000Z
DTSTAMP:20260421T112142Z
ORGANIZER;CN=IFMA Schweiz :MAILTO:admin@ifma.ch
END:VEVENT
END:VCALENDAR