BEGIN:VCALENDAR
VERSION:2.0
PRODID:Events Booking
BEGIN:VEVENT
UID:69ea0e15d6e63
SUMMARY:Voravis: IFMA Roadshow FM und BIM - Zug
DESCRIPTION:
 Die Roadshow wird verschoben\, da wir derzeit keine geeignet
 en Räumlichkeiten mit Bezug zu BIM finden. Das neue Datum wird so bald al
 s möglich bekannt gegeben. Eine Anmeldung ist daher noch nicht möglich. 
  
 Programm
 Anfahrtsbeschrieb für Autofahrer
 Vier Jahre nach Veröff
 entlichung des IFMA Positionspapiers FM und BIM möchten wir beleuchten wo
  der Markt heute steht.
 
LOCATION:Gubelstrasse 22\, 6300 Zug\, Schweiz
DTSTART:20211006T150000Z
DTEND:20211006T170000Z
DTSTAMP:20260423T141829Z
ORGANIZER;CN=IFMA Schweiz :MAILTO:admin@ifma.ch
GEO:47.175703;8.51423
X-APPLE-STRUCTURED-LOCATION;VALUE=URI;X-ADDRESS=Gubelstrasse 22\, 6300 Zug\
 , Schweiz;X-APPLE-RADIUS=72;X-TITLE=Zug\, Siemens Campus\, Gubelstrasse 22
 :47.175703;8.51423
END:VEVENT
END:VCALENDAR